BEGIN:VCALENDAR
VERSION:2.0
PRODID:-//eventon.com NONSGML v1.0//EN
CALSCALE:GREGORIAN
METHOD:PUBLISH
BEGIN:VEVENT
UID:69e5fd1014001
DTSTAMP:20260420T101648Z
DTSTART:20230120T000000Z
DTEND:20230120T023000Z
LOCATION:
SUMMARY:GRAAA Meeting | January
DESCRIPTION:GRAAA Meeting | January 7 p.m. in the Roger B. Chaffee Planetar
 ium. This GRAAA meeting will feature a special presentation: “Highlights 
 of the Winter Sky and Big Astronomy\, ” presented by GRPM Planetarium Man
 ager Jack Daleske. First\,  the planetarium crew will introduce highlights 
 of the current winter sky\,  including prominent stars\, [..]\nhttps://www.
 grpm.org/events/graaa-meeting-january/
URL:https://www.grpm.org/events/graaa-meeting-january/
END:VEVENT
END:VCALENDAR