BEGIN:VCALENDAR
VERSION:2.0
PRODID:-//eventon.com NONSGML v1.0//EN
CALSCALE:GREGORIAN
METHOD:PUBLISH
BEGIN:VEVENT
UID:69ed50f8c3fc0
DTSTAMP:20260425T234040Z
DTSTART:20230420T213000Z
DTEND:20230421T035000Z
LOCATION:Grand Rapids Public Museum 272 Pearl St. NW\,  Grand Rapids\,  MI 49504
SUMMARY:Sensory-Friendly Museum Night
DESCRIPTION:Date: Thursday\,  April 20thTime: 5:30 pm to 7:30 pmCost: Free 
 for registered guestsPartners: Hope Network\,  Center for Autism\,  GVSU Oc
 cupational Therapy\,  Autism Alliance of MI\,  and the City of Grand Rapids
  In celebration of Autism Acceptance Month\,  the Grand Rapids Public Museu
 m (GRPM) and Hope Network invite visitors affected by[..]\nhttps://www.grpm
 .org/events/sensory-friendly-museum-night/
URL:https://www.grpm.org/events/sensory-friendly-museum-night/
END:VEVENT
END:VCALENDAR