BEGIN:VCALENDAR
VERSION:2.0
PRODID:-//eventon.com NONSGML v1.0//EN
CALSCALE:GREGORIAN
METHOD:PUBLISH
BEGIN:VEVENT
UID:69e6152eea91b
DTSTAMP:20260420T115942Z
DTSTART:20240215T233000Z
DTEND:20240216T020000Z
LOCATION:
SUMMARY:Concert Under The Stars: Brother Wolf feat. Emily Hromi
DESCRIPTION:Brother Wolf&#8211; feat. Emily Hromi February 15 and 16\,  202
 4 7:30 p.m. in the Roger B. Chaffee Planetarium. About The Artist. Benjamin
  Hunter is Brother Wolf.Brother Wolf is from Michigan. This multifaceted cr
 eative\,  with an extensive background in communications arts (Professor of
  Communication Studies)\,  has published music and art zines\, [..]\nhttps:
 //www.grpm.org/events/https-tickets-grpm-org-grandrapidspublicmuseum-events
 -018c1ca2-c3e1-256a-6247-da058692b92b/
URL:https://www.grpm.org/events/https-tickets-grpm-org-grandrapidspublicmuseum-events-018c1ca2-c3e1-256a-6247-da058692b92b/
END:VEVENT
END:VCALENDAR