BEGIN:VCALENDAR
VERSION:2.0
PRODID:-//eventon.com NONSGML v1.0//EN
CALSCALE:GREGORIAN
METHOD:PUBLISH
BEGIN:VEVENT
UID:69eb27f819ba3
DTSTAMP:20260424T082112Z
DTSTART:20250313T223000Z
DTEND:20250314T010000Z
LOCATION:
SUMMARY:Concert Under The Stars: Slow Spell ft. Visual Artist Emily Hromi
DESCRIPTION:7:30 p.m. in the Roger B. Chaffee Planetarium. Concerts Under t
 he Stars is an immersive full-dome concert experience where local West Mich
 igan bands perform their music\,  enhanced by original video art by local v
 isual artists projected onto the Roger B. Chaffee Planetarium’s 50-foot d
 ome. Visitors are invited to explore the[..]\nhttps://www.grpm.org/events/c
 oncert-under-the-stars-slow-spell-emily-hromi/
URL:https://www.grpm.org/events/concert-under-the-stars-slow-spell-emily-hromi/
END:VEVENT
END:VCALENDAR