BEGIN:VCALENDAR
VERSION:2.0
PRODID:-//eventon.com NONSGML v1.0//EN
CALSCALE:GREGORIAN
METHOD:PUBLISH
BEGIN:VEVENT
UID:69e5e7163c38f
DTSTAMP:20260420T084302Z
DTSTART:20250320T230000Z
DTEND:20250321T010000Z
LOCATION:
SUMMARY:GRAAA | March Meeting\,  Featured Speaker: David DeBruyn presents 70 Years of Astronomical Richness in West Michigan
DESCRIPTION:When: Thursday\,  March 20 at 7 p.m. Where: Meijer Theater\,  S
 econd Floor &nbsp;From its inception in May of 1955 to the vibrant associat
 ion of astronomy enthusiasts\,  it is today\,  the evolution of GRAAA is on
 e of many twists\,  turns\,  personalities\,  and complexities. What a stor
 y it is\,  to be unpacked[..]\nhttps://www.grpm.org/events/graaa-march-2025
 /
URL:https://www.grpm.org/events/graaa-march-2025/
END:VEVENT
END:VCALENDAR