BEGIN:VCALENDAR
VERSION:2.0
PRODID:-//eventon.com NONSGML v1.0//EN
CALSCALE:GREGORIAN
METHOD:PUBLISH
BEGIN:VEVENT
UID:69e50036ba851
DTSTAMP:20260419T161758Z
DTSTART:20250410T150000Z
DTEND:20250410T190000Z
LOCATION:Grand Rapids Public Museum 272 Pearl St. NW\,  Grand Rapids\,  MI 49504
SUMMARY:Spring Break: LEGO® Day
DESCRIPTION:Calling all LEGO® Master Builders in the making! Come to the M
 useum to meet members of the Grand Rapids Lego Club and see their Star Wars
  display! You and your family can enter into a LEGO® build competition on 
 the GRPM’s first floor. Judging will take place at 4 p.m.[..]\nhttps://ww
 w.grpm.org/events/spring-break-lego/
URL:https://www.grpm.org/events/spring-break-lego/
END:VEVENT
END:VCALENDAR