BEGIN:VCALENDAR
VERSION:2.0
PRODID:-//eventon.com NONSGML v1.0//EN
CALSCALE:GREGORIAN
METHOD:PUBLISH
BEGIN:VEVENT
UID:69e9ef46632b9
DTSTAMP:20260423T100702Z
DTSTART:20250523T130000Z
DTEND:20250525T210000Z
LOCATION:Grand Rapids Public Museum 272 Pearl St. NW\,  Grand Rapids\,  MI 49504
SUMMARY:Free Admission for U.S. Service Members and Their Families to See New Veterans Display
DESCRIPTION:Veterans\,  presented in partnership with the Michigan Heroes M
 useum\,  honors the servicemen and women from West Michigan who served the 
 United States during World War II. Launching Friday\,  May 23\,  this timel
 y exhibit marks the 80th anniversary of the end of World War II and invites
  the community to reflect[..]\nhttps://www.grpm.org/events/veterans/
URL:https://www.grpm.org/events/veterans/
END:VEVENT
END:VCALENDAR