BEGIN:VCALENDAR
VERSION:2.0
PRODID:-//eventon.com NONSGML v1.0//EN
CALSCALE:GREGORIAN
METHOD:PUBLISH
BEGIN:VEVENT
UID:69e5e77b6c70d
DTSTAMP:20260420T084443Z
DTSTART:20260421T230000Z
DTEND:20260422T010000Z
LOCATION:
SUMMARY:Cretaceous Countdown: Trivia Night with Betka Pope (21+)
DESCRIPTION:Step back in time for an unforgettable night of prehistoric fun
 ! Join us on April 21 at 7:00 PM at the Grand Rapids Public Museum for Cret
 aceous Countdown\,  an immersive\,  after-hours experience produced by Betk
 a-Pope Productions. Gather your team of 2–4 explorers and begin your jour
 ney by roaming the exhibit[..]\nhttps://www.grpm.org/events/cretaceous-coun
 tdown/
URL:https://www.grpm.org/events/cretaceous-countdown/
END:VEVENT
END:VCALENDAR